BEGIN:VCALENDAR
VERSION:2.0
PRODID:-//NewWriters.org.uk - ECPv6.15.20//NONSGML v1.0//EN
CALSCALE:GREGORIAN
METHOD:PUBLISH
X-WR-CALNAME:NewWriters.org.uk
X-ORIGINAL-URL:https://newwriters.org.uk
X-WR-CALDESC:Events for NewWriters.org.uk
REFRESH-INTERVAL;VALUE=DURATION:PT1H
X-Robots-Tag:noindex
X-PUBLISHED-TTL:PT1H
BEGIN:VTIMEZONE
TZID:UTC
BEGIN:STANDARD
TZOFFSETFROM:+0000
TZOFFSETTO:+0000
TZNAME:UTC
DTSTART:20250101T000000
END:STANDARD
END:VTIMEZONE
BEGIN:VEVENT
DTSTART;VALUE=DATE:20261130
DTEND;VALUE=DATE:20261201
DTSTAMP:20260424T123829
CREATED:20260107T131851Z
LAST-MODIFIED:20260108T155338Z
UID:1886-1795996800-1796083199@newwriters.org.uk
SUMMARY:Anthology Travel Writing Competition 2026
DESCRIPTION:Deadline: Midnight (UK time) on 30th November 2026\nEntry Fee: Early bird: €12 per article (1st December 2025 to 31st March 2026); Standard fee: €15 per article (1st April to 30th November 2025) \nPrizes: 1st Place: €300\, plus publication in the Anthology magazine\nWord Limit: 1\,000 words\nCategory: Travel Writing Competitions\nCompetition Website: anthology-magazine.com/awards/travel-writing-competition\n\nOrganised by Anthology magazine\, this travel writing competition offers the chance to win a tidy top prize of €300 and to gain publication in their stylish magazine. With a maximum of 1\,000 words\, there’s enough room to be relatively expansive in your travel tales.  \nSo if you enjoy writing about places you’ve visited\, wherever they might be\, this could be the competition for you – and enter before 31st March 2026 for a discounted entry fee.
URL:https://newwriters.org.uk/competition/anthology-travel-writing-competition/
LOCATION:VirtualLocation
CATEGORIES:Non-fiction Competitions
ATTACH;FMTTYPE=image/webp:https://newwriters.org.uk/wp-content/uploads/2025/01/Anthology-Travel-Writing-Competition-e1767887409780.webp
END:VEVENT
END:VCALENDAR