BEGIN:VCALENDAR
VERSION:2.0
PRODID:-//NewWriters.org.uk - ECPv6.15.20//NONSGML v1.0//EN
CALSCALE:GREGORIAN
METHOD:PUBLISH
X-ORIGINAL-URL:https://newwriters.org.uk
X-WR-CALDESC:Events for NewWriters.org.uk
REFRESH-INTERVAL;VALUE=DURATION:PT1H
X-Robots-Tag:noindex
X-PUBLISHED-TTL:PT1H
BEGIN:VTIMEZONE
TZID:UTC
BEGIN:STANDARD
TZOFFSETFROM:+0000
TZOFFSETTO:+0000
TZNAME:UTC
DTSTART:20230101T000000
END:STANDARD
END:VTIMEZONE
BEGIN:VEVENT
DTSTART;VALUE=DATE:20240430
DTEND;VALUE=DATE:20240501
DTSTAMP:20260426T035022
CREATED:20240318T124838Z
LAST-MODIFIED:20250227T101719Z
UID:5051-1714435200-1714521599@newwriters.org.uk
SUMMARY:New Writers 1000-Word Short Story Competition 2024
DESCRIPTION:Deadline: Midnight (UK time) on Tuesday 30th April 2024\nEntry Fee: £10 for one entry\, £19 for two entries\, £27 for three entries\nPrizes: 1st Place: £1\,000; 2nd Place: £300; 3rd Place: £200\nWord Limit: 1\,000 words (excluding title)\nCharity:  £1 from each entry will be donated to First Story (England’s leading creative writing charity for young people)\nHead Judge: Cassandra Parkin (Award-Winning Author & Poet)\nCategory: Short Story Competitions\nCompetition Website: newwriters.org.uk/short-story-competition-1000\n\nThe New Writers 1000-Word Short Story Competition 2024 is seeking imaginative\, thought-provoking stories of up to 1\,000 words. With a prize fund of £1\,500 and the winners getting published on the website and in a future New Writers Anthology\, this is a great competition for new and experienced writers alike. \nAlso\, £1.00 from each entry will be donated to creative writing charity\, First Story (who do some brilliant work to help empower young people and give them a creative voice). So even if you don’t win\, you’ll still be contributing to a good cause. \nWe are also very happy to have the brilliant novelist and poet Cassandra Parkin as our head judge for the competition. You can read our Q&A with Cassandra to find out about the kind of entries she might particularly welcome. \nSo if you’d like the chance to win £1\,000 for (up to) 1\,000 words\, get involved. \n\n\n                    \n                        \n                        \n                            \n                    \n                    \n\n        \n                        \n                                                Enter Now
URL:https://newwriters.org.uk/competition/short-story-1000/
CATEGORIES:Flash Fiction Competitions,Short Story Competitions
ATTACH;FMTTYPE=image/png:https://newwriters.org.uk/wp-content/uploads/2024/03/New-Writers-Short-Story-Competition-2024.png
END:VEVENT
END:VCALENDAR