BEGIN:VCALENDAR
VERSION:2.0
PRODID:-//NewWriters.org.uk - ECPv6.15.20//NONSGML v1.0//EN
CALSCALE:GREGORIAN
METHOD:PUBLISH
X-WR-CALNAME:NewWriters.org.uk
X-ORIGINAL-URL:https://newwriters.org.uk
X-WR-CALDESC:Events for NewWriters.org.uk
REFRESH-INTERVAL;VALUE=DURATION:PT1H
X-Robots-Tag:noindex
X-PUBLISHED-TTL:PT1H
BEGIN:VTIMEZONE
TZID:UTC
BEGIN:STANDARD
TZOFFSETFROM:+0000
TZOFFSETTO:+0000
TZNAME:UTC
DTSTART:20240101T000000
END:STANDARD
END:VTIMEZONE
BEGIN:VEVENT
DTSTART;VALUE=DATE:20250131
DTEND;VALUE=DATE:20250201
DTSTAMP:20260425T123705
CREATED:20240829T071818Z
LAST-MODIFIED:20251112T140820Z
UID:6687-1738281600-1738367999@newwriters.org.uk
SUMMARY:New Writers Flash Fiction Competition 2025
DESCRIPTION:Deadline: 23.59 (UK time) on Friday 31 January 2025\nEntry Fee: £10 for one entry\, £19 for two entries\, £27 for three entries\nPrizes: 1st Place: £1\,100; 2nd Place: £300; 3rd Place: £200\nWord Limit: 300 (excluding title)\nEligibility: Anyone aged 16 years or older (at the time of entry) from anywhere in the world.\nCharity:  £1 from each entry will be donated to First Story (England’s leading creative writing charity for young people)\nHead Judge: Shreya Sen-Handley (Author\, Columnist\, Playwright and Illustrator)\nCategory: Flash Fiction Competitions\nCompetition Website: newwriters.org.uk/flash-fiction-competition\n\nThe New Writers Flash Fiction Competition 2024 is seeking imaginative\, thought-provoking flash fiction stories. With our biggest-ever prize fund of £1\,600 and the winners getting published on the website and a future anthology\, this is a great competition for new and experienced writers to get their work out there. \nWe’re delighted to welcome the celebrated author\, playwright\, columnist and illustrator Shreya Sen-Handley as the head judge for the competition. During her varied and brilliant career to date\, Shreya has published three books with HarperCollins: the award-winning ‘Memoirs of My Body’ (2017)\, the acclaimed short story collection ‘Strange’ (2019)\, and the bestselling travelogue ‘Handle With Care’ (2022). Shreya is currently working on her fourth book\, which is set to be published by Penguin in 2026.  \nNote that £1.00 from each entry will be donated to the excellent creative writing charity\, First Story. They do brilliant work and run several projects to help empower young people and give them a creative voice). So even if you don’t win\, you’ll still be contributing to a good cause. \nLow Income Entries: We want to make the competition accessible to as many writers as possible. We have therefore funded a limited number of free entries for low-income writers. These are available on a first-come\, first-served basis (though no later than 15th January 2025\, one entry per person). Please see the terms and conditions for details. \n\n\n                    \n                        \n                        \n                            \n                    \n                    \n\n        \n                        \n                                                Enter Now
URL:https://newwriters.org.uk/competition/flash-fiction-comp-2025/
CATEGORIES:Flash Fiction Competitions
ATTACH;FMTTYPE=image/png:https://newwriters.org.uk/wp-content/uploads/2022/07/Twitter-Header-Image.png
END:VEVENT
END:VCALENDAR